BEGIN:VCALENDAR
VERSION:2.0
PRODID:-//Slice and Dice Pizzeria - ECPv6.15.20//NONSGML v1.0//EN
CALSCALE:GREGORIAN
METHOD:PUBLISH
X-WR-CALNAME:Slice and Dice Pizzeria
X-ORIGINAL-URL:https://sliceanddicepizzeria.com
X-WR-CALDESC:Events for Slice and Dice Pizzeria
REFRESH-INTERVAL;VALUE=DURATION:PT1H
X-Robots-Tag:noindex
X-PUBLISHED-TTL:PT1H
BEGIN:VTIMEZONE
TZID:America/Denver
BEGIN:DAYLIGHT
TZOFFSETFROM:-0700
TZOFFSETTO:-0600
TZNAME:MDT
DTSTART:20250309T090000
END:DAYLIGHT
BEGIN:STANDARD
TZOFFSETFROM:-0600
TZOFFSETTO:-0700
TZNAME:MST
DTSTART:20251102T080000
END:STANDARD
BEGIN:DAYLIGHT
TZOFFSETFROM:-0700
TZOFFSETTO:-0600
TZNAME:MDT
DTSTART:20260308T090000
END:DAYLIGHT
BEGIN:STANDARD
TZOFFSETFROM:-0600
TZOFFSETTO:-0700
TZNAME:MST
DTSTART:20261101T080000
END:STANDARD
BEGIN:DAYLIGHT
TZOFFSETFROM:-0700
TZOFFSETTO:-0600
TZNAME:MDT
DTSTART:20270314T090000
END:DAYLIGHT
BEGIN:STANDARD
TZOFFSETFROM:-0600
TZOFFSETTO:-0700
TZNAME:MST
DTSTART:20271107T080000
END:STANDARD
END:VTIMEZONE
BEGIN:VEVENT
DTSTART;TZID=America/Denver:20260419T130000
DTEND;TZID=America/Denver:20260419T170000
DTSTAMP:20260421T022814
CREATED:20260411T010556Z
LAST-MODIFIED:20260411T010647Z
UID:10004431-1776603600-1776618000@sliceanddicepizzeria.com
SUMMARY:Magic the Gathering Secrets of Strixhaven Prerelease (EAST)
DESCRIPTION:Slice and Dice Eastside will be hosting a prerelease event for the new Secrets of Strixhaven set. Each participant will be given a prerelease box with 6 boosters. With those cards they will build a deck 40-card deck. With the built deck\, players will participate in a 3-round swiss tournament. Every player will receive one additional Play Booster for every round played (no win needed)\, and use that back to upgrade your deck. You can call or come into the store to buy your ticket now. Or show up and buy a ticket the day of the event (there are limited seats)\n\nDate and Time: 04/19/26 @ 1pm\nCost: $30\nPrizes: 1 Play Booster per round played (win or lose); Additional random raffle prizes
URL:https://sliceanddicepizzeria.com/event/magic-the-gathering-secrets-of-strixhaven-prerelease-east/
LOCATION:Eastside\, 2225 Wyoming Blvd NE Suite C\, Albuquerque\, NM\, 87112\, United States
CATEGORIES:Casual Event,Magic the Gathering,Release Event,TCG,Tournament
ATTACH;FMTTYPE=image/jpeg:https://sliceanddicepizzeria.com/wp-content/uploads/2026/04/SOS_prerelease_sma_1920x1080.jpg
END:VEVENT
BEGIN:VEVENT
DTSTART;TZID=America/Denver:20260419T130000
DTEND;TZID=America/Denver:20260419T170000
DTSTAMP:20260421T022814
CREATED:20260208T235311Z
LAST-MODIFIED:20260208T235311Z
UID:10003992-1776603600-1776618000@sliceanddicepizzeria.com
SUMMARY:Gundam Card Game Starter Deck Sealed Battle – EAST
DESCRIPTION:Gundam Card Game Tournament using ST01-ST06 and 4 packs of your choosing (limited supplies). 3-round swiss tournament. Pack per round (win or lose).\n\nCost: $42\nTime: 1pm (All events start 15 min after start time)\nPrizes: 1 pack per round (win or lose)
URL:https://sliceanddicepizzeria.com/event/gundam-card-game-starter-deck-sealed-battle-east/
LOCATION:Eastside\, 2225 Wyoming Blvd NE Suite C\, Albuquerque\, NM\, 87112\, United States
CATEGORIES:Casual Event,Gundam Card Game,TCG,Tournament
ATTACH;FMTTYPE=image/jpeg:https://sliceanddicepizzeria.com/wp-content/uploads/2025/10/yhm0olu7xrqf1-1920x1080-1.jpg
END:VEVENT
BEGIN:VEVENT
DTSTART;TZID=America/Denver:20260418T130000
DTEND;TZID=America/Denver:20260418T190000
DTSTAMP:20260421T022814
CREATED:20260411T014751Z
LAST-MODIFIED:20260411T021915Z
UID:10004432-1776517200-1776538800@sliceanddicepizzeria.com
SUMMARY:Lorcana Winterspell Set Champs (EAST)
DESCRIPTION:Come to the Slice and Dice Set Champs for Winterspell. We will be hosting a 3 round swiss pairing and cut to top 8 single elimination after that. \nSeats will be given to those who buy tickets first. Tickets can be bought at the store or purchased over the phone. Signing up in the app does not guarantee your spot in the tournament. \n– Date and Time: 04/18/26 @ 1pm\n– Cost: $25\n– Prizes: 1 Play Booster per round win; Participation promos and Championship Playmat
URL:https://sliceanddicepizzeria.com/event/lorcana-winterspell-set-champs-east/
LOCATION:Eastside\, 2225 Wyoming Blvd NE Suite C\, Albuquerque\, NM\, 87112\, United States
CATEGORIES:Disney Lorcana,TCG,Tournament
ATTACH;FMTTYPE=image/jpeg:https://sliceanddicepizzeria.com/wp-content/uploads/2026/04/S11_Social_Post_Tinkerbell_1920x1080.jpg
END:VEVENT
BEGIN:VEVENT
DTSTART;TZID=America/Denver:20260416T180000
DTEND;TZID=America/Denver:20260416T210000
DTSTAMP:20260421T022814
CREATED:20260209T051747Z
LAST-MODIFIED:20260209T161837Z
UID:10004364-1776362400-1776373200@sliceanddicepizzeria.com
SUMMARY:Lorcana TCG Casual Community - WEST
DESCRIPTION:Come play Lorcana with our great community. Great for new and veteran players. Casual tournament every 2 weeks. Gain Lorcana points for every game you play (winning not necessary) and turn those points in for awesome promos and prizes. \n\nBi-weekly Lorcana Tournament. 3-round swiss tournament. Pack per win. Lucky Losers win packs (best of the 1 wins). \n\nCost: $9\nTime: 6pm (All events start 15 min after start time)\nPrizes: 1 pack per win\, Lucky Loser packs (best of the 1 wins)\, Promos
URL:https://sliceanddicepizzeria.com/event/lorcana-tcg-casual-community-west-3/2026-04-16/
LOCATION:Westside\, 5720 McMahon Blvd NW suite b\, Albuquerque\, NM\, 87114\, United States
CATEGORIES:Disney Lorcana,TCG,Tournament
ATTACH;FMTTYPE=image/png:https://sliceanddicepizzeria.com/wp-content/uploads/2025/11/LORCANA.png
END:VEVENT
BEGIN:VEVENT
DTSTART;TZID=America/Denver:20260412T130000
DTEND;TZID=America/Denver:20260412T160000
DTSTAMP:20260421T022814
CREATED:20260209T033554Z
LAST-MODIFIED:20260329T214506Z
UID:10004213-1775998800-1776009600@sliceanddicepizzeria.com
SUMMARY:Riftbound TCG Tournament - EAST
DESCRIPTION:Bi-weekly Riftbound: League of Legends TCG Tournament. 3-round swiss tournament. Pack per win. Lucky Losers win packs (best of the 1 wins). Event promo packs to all participants. \n\nCost: $11\nTime: 1pm (All events start 15 min after start time)\nPrizes: 1 pack per win\, Lucky Loser packs (best of the 1 wins)\, Promo packs
URL:https://sliceanddicepizzeria.com/event/riftbound-tcg-tournament-east/2026-04-12/
LOCATION:Eastside\, 2225 Wyoming Blvd NE Suite C\, Albuquerque\, NM\, 87112\, United States
CATEGORIES:Riftbound,TCG,Tournament
ATTACH;FMTTYPE=image/jpeg:https://sliceanddicepizzeria.com/wp-content/uploads/2026/02/RB-02_KeyVisual_1920x1080.jpg
END:VEVENT
BEGIN:VEVENT
DTSTART;TZID=America/Denver:20260409T180000
DTEND;TZID=America/Denver:20260409T210000
DTSTAMP:20260421T022814
CREATED:20260209T052046Z
LAST-MODIFIED:20260209T052046Z
UID:10004408-1775757600-1775768400@sliceanddicepizzeria.com
SUMMARY:Lorcana TCG Casual Community - EAST
DESCRIPTION:Come play Lorcana with our great community. Great for new and veteran players. Casual tournament every 2 weeks. Gain Lorcana points for every game you play (winning not necessary) and turn those points in for awesome promos and prizes. \n\nBi-weekly Lorcana Tournament. 3-round swiss tournament. Pack per win. Lucky Losers win packs (best of the 1 wins). \n\nCost: $9\nTime: 6pm (All events start 15 min after start time)\nPrizes: 1 pack per win\, Lucky Loser packs (best of the 1 wins)\, Promo packs
URL:https://sliceanddicepizzeria.com/event/lorcana-tcg-casual-community-east/2026-04-09/
LOCATION:Eastside\, 2225 Wyoming Blvd NE Suite C\, Albuquerque\, NM\, 87112\, United States
CATEGORIES:Disney Lorcana,TCG,Tournament
ATTACH;FMTTYPE=image/png:https://sliceanddicepizzeria.com/wp-content/uploads/2025/11/LORCANA.png
END:VEVENT
BEGIN:VEVENT
DTSTART;TZID=America/Denver:20260402T180000
DTEND;TZID=America/Denver:20260402T210000
DTSTAMP:20260421T022814
CREATED:20260209T051747Z
LAST-MODIFIED:20260209T161837Z
UID:10004363-1775152800-1775163600@sliceanddicepizzeria.com
SUMMARY:Lorcana TCG Casual Community - WEST
DESCRIPTION:Come play Lorcana with our great community. Great for new and veteran players. Casual tournament every 2 weeks. Gain Lorcana points for every game you play (winning not necessary) and turn those points in for awesome promos and prizes. \n\nBi-weekly Lorcana Tournament. 3-round swiss tournament. Pack per win. Lucky Losers win packs (best of the 1 wins). \n\nCost: $9\nTime: 6pm (All events start 15 min after start time)\nPrizes: 1 pack per win\, Lucky Loser packs (best of the 1 wins)\, Promos
URL:https://sliceanddicepizzeria.com/event/lorcana-tcg-casual-community-west-3/2026-04-02/
LOCATION:Westside\, 5720 McMahon Blvd NW suite b\, Albuquerque\, NM\, 87114\, United States
CATEGORIES:Disney Lorcana,TCG,Tournament
ATTACH;FMTTYPE=image/png:https://sliceanddicepizzeria.com/wp-content/uploads/2025/11/LORCANA.png
END:VEVENT
BEGIN:VEVENT
DTSTART;TZID=America/Denver:20260330T180000
DTEND;TZID=America/Denver:20260330T210000
DTSTAMP:20260421T022814
CREATED:20260208T234819Z
LAST-MODIFIED:20260326T184230Z
UID:10003991-1774893600-1774904400@sliceanddicepizzeria.com
SUMMARY:Gundam Card Game Destiny Ignition STO9 - EAST
DESCRIPTION:Gundam Card Game Tournament using Ultimate Deck ST09. 3-round swiss tournament. Pack before each round (win or lose). Use pack to upgrade your deck. \n\nCost: $50\nTime: 1pm (All events start 15 min after start time)\nPrizes: 1 pack per round (win or lose)
URL:https://sliceanddicepizzeria.com/event/gundam-card-game-destiny-ignition-sto9-east/
LOCATION:Eastside\, 2225 Wyoming Blvd NE Suite C\, Albuquerque\, NM\, 87112\, United States
CATEGORIES:Gundam Card Game,TCG,Tournament
ATTACH;FMTTYPE=image/jpeg:https://sliceanddicepizzeria.com/wp-content/uploads/2025/10/yhm0olu7xrqf1-1920x1080-1.jpg
END:VEVENT
BEGIN:VEVENT
DTSTART;TZID=America/Denver:20260329T160000
DTEND;TZID=America/Denver:20260329T200000
DTSTAMP:20260421T022814
CREATED:20260209T025323Z
LAST-MODIFIED:20260326T194057Z
UID:10004210-1774800000-1774814400@sliceanddicepizzeria.com
SUMMARY:Altered TCG Seeds of Unity Prerelease Sealed - EAST
DESCRIPTION:Time for the fifth set! Our usual prerelease of the new set will be a Sealed event this first week\, so a good time to bring any new players interested in trying out the game! Keep in mind\, purchase is required to participate\, and the event starts close to 4:00 PM this day. \nYou will build a deck using the 7 boosters you open. Unlike in standard deck construction\, you are allowed to use 3 different colors in your deck. The event will be a 3 rounds swiss tournament. Each round\, you will receive 1 booster and you can use cards to upgrade your deck. 3 random players will win a collector booster by raffle. \nCost: $45
URL:https://sliceanddicepizzeria.com/event/altered-tcg-seeds-of-unity-prerelease-sealed-east/
LOCATION:Eastside\, 2225 Wyoming Blvd NE Suite C\, Albuquerque\, NM\, 87112\, United States
CATEGORIES:Altered TCG,Casual Event,TCG,Tournament
ATTACH;FMTTYPE=image/jpeg:https://sliceanddicepizzeria.com/wp-content/uploads/2026/02/e0a40582-d879-4f67-9cd8-f2b6dd5eb2c2.jpg
END:VEVENT
BEGIN:VEVENT
DTSTART;TZID=America/Denver:20260326T180000
DTEND;TZID=America/Denver:20260326T210000
DTSTAMP:20260421T022814
CREATED:20260209T052046Z
LAST-MODIFIED:20260209T052046Z
UID:10004407-1774548000-1774558800@sliceanddicepizzeria.com
SUMMARY:Lorcana TCG Casual Community - EAST
DESCRIPTION:Come play Lorcana with our great community. Great for new and veteran players. Casual tournament every 2 weeks. Gain Lorcana points for every game you play (winning not necessary) and turn those points in for awesome promos and prizes. \n\nBi-weekly Lorcana Tournament. 3-round swiss tournament. Pack per win. Lucky Losers win packs (best of the 1 wins). \n\nCost: $9\nTime: 6pm (All events start 15 min after start time)\nPrizes: 1 pack per win\, Lucky Loser packs (best of the 1 wins)\, Promo packs
URL:https://sliceanddicepizzeria.com/event/lorcana-tcg-casual-community-east/2026-03-26/
LOCATION:Eastside\, 2225 Wyoming Blvd NE Suite C\, Albuquerque\, NM\, 87112\, United States
CATEGORIES:Disney Lorcana,TCG,Tournament
ATTACH;FMTTYPE=image/png:https://sliceanddicepizzeria.com/wp-content/uploads/2025/11/LORCANA.png
END:VEVENT
BEGIN:VEVENT
DTSTART;TZID=America/Denver:20260322T130000
DTEND;TZID=America/Denver:20260322T160000
DTSTAMP:20260421T022814
CREATED:20260208T215339Z
LAST-MODIFIED:20260209T041418Z
UID:10003970-1774184400-1774195200@sliceanddicepizzeria.com
SUMMARY:Gundam Card Game Tournament - EAST
DESCRIPTION:Bi-weekly Gundam Card Game Tournament. 3-round swiss tournament. Pack per win. Lucky Losers win packs (best of the 1 wins). Event promo packs to all participants. \n\nCost: $8\nTime: 1pm (All events start 15 min after start time)\nPrizes: 1 pack per win\, Lucky Loser packs (best of the 1 wins)\, Promo packs
URL:https://sliceanddicepizzeria.com/event/gundam-card-game-tournament-east/2026-03-22/
LOCATION:Eastside\, 2225 Wyoming Blvd NE Suite C\, Albuquerque\, NM\, 87112\, United States
CATEGORIES:Gundam Card Game,TCG,Tournament
ATTACH;FMTTYPE=image/jpeg:https://sliceanddicepizzeria.com/wp-content/uploads/2025/10/yhm0olu7xrqf1-1920x1080-1.jpg
END:VEVENT
BEGIN:VEVENT
DTSTART;TZID=America/Denver:20260319T180000
DTEND;TZID=America/Denver:20260319T210000
DTSTAMP:20260421T022814
CREATED:20260209T051747Z
LAST-MODIFIED:20260209T161837Z
UID:10004362-1773943200-1773954000@sliceanddicepizzeria.com
SUMMARY:Lorcana TCG Casual Community - WEST
DESCRIPTION:Come play Lorcana with our great community. Great for new and veteran players. Casual tournament every 2 weeks. Gain Lorcana points for every game you play (winning not necessary) and turn those points in for awesome promos and prizes. \n\nBi-weekly Lorcana Tournament. 3-round swiss tournament. Pack per win. Lucky Losers win packs (best of the 1 wins). \n\nCost: $9\nTime: 6pm (All events start 15 min after start time)\nPrizes: 1 pack per win\, Lucky Loser packs (best of the 1 wins)\, Promos
URL:https://sliceanddicepizzeria.com/event/lorcana-tcg-casual-community-west-3/2026-03-19/
LOCATION:Westside\, 5720 McMahon Blvd NW suite b\, Albuquerque\, NM\, 87114\, United States
CATEGORIES:Disney Lorcana,TCG,Tournament
ATTACH;FMTTYPE=image/png:https://sliceanddicepizzeria.com/wp-content/uploads/2025/11/LORCANA.png
END:VEVENT
BEGIN:VEVENT
DTSTART;TZID=America/Denver:20260315T130000
DTEND;TZID=America/Denver:20260315T160000
DTSTAMP:20260421T022814
CREATED:20260209T033554Z
LAST-MODIFIED:20260329T214506Z
UID:10004212-1773579600-1773590400@sliceanddicepizzeria.com
SUMMARY:Riftbound TCG Tournament - EAST
DESCRIPTION:Bi-weekly Riftbound: League of Legends TCG Tournament. 3-round swiss tournament. Pack per win. Lucky Losers win packs (best of the 1 wins). Event promo packs to all participants. \n\nCost: $11\nTime: 1pm (All events start 15 min after start time)\nPrizes: 1 pack per win\, Lucky Loser packs (best of the 1 wins)\, Promo packs
URL:https://sliceanddicepizzeria.com/event/riftbound-tcg-tournament-east/2026-03-15/
LOCATION:Eastside\, 2225 Wyoming Blvd NE Suite C\, Albuquerque\, NM\, 87112\, United States
CATEGORIES:Riftbound,TCG,Tournament
ATTACH;FMTTYPE=image/jpeg:https://sliceanddicepizzeria.com/wp-content/uploads/2026/02/RB-02_KeyVisual_1920x1080.jpg
END:VEVENT
BEGIN:VEVENT
DTSTART;TZID=America/Denver:20260312T180000
DTEND;TZID=America/Denver:20260312T210000
DTSTAMP:20260421T022814
CREATED:20260209T052046Z
LAST-MODIFIED:20260209T052046Z
UID:10004406-1773338400-1773349200@sliceanddicepizzeria.com
SUMMARY:Lorcana TCG Casual Community - EAST
DESCRIPTION:Come play Lorcana with our great community. Great for new and veteran players. Casual tournament every 2 weeks. Gain Lorcana points for every game you play (winning not necessary) and turn those points in for awesome promos and prizes. \n\nBi-weekly Lorcana Tournament. 3-round swiss tournament. Pack per win. Lucky Losers win packs (best of the 1 wins). \n\nCost: $9\nTime: 6pm (All events start 15 min after start time)\nPrizes: 1 pack per win\, Lucky Loser packs (best of the 1 wins)\, Promo packs
URL:https://sliceanddicepizzeria.com/event/lorcana-tcg-casual-community-east/2026-03-12/
LOCATION:Eastside\, 2225 Wyoming Blvd NE Suite C\, Albuquerque\, NM\, 87112\, United States
CATEGORIES:Disney Lorcana,TCG,Tournament
ATTACH;FMTTYPE=image/png:https://sliceanddicepizzeria.com/wp-content/uploads/2025/11/LORCANA.png
END:VEVENT
BEGIN:VEVENT
DTSTART;TZID=America/Denver:20260308T130000
DTEND;TZID=America/Denver:20260308T160000
DTSTAMP:20260421T022814
CREATED:20260208T215339Z
LAST-MODIFIED:20260209T041418Z
UID:10003969-1772974800-1772985600@sliceanddicepizzeria.com
SUMMARY:Gundam Card Game Tournament - EAST
DESCRIPTION:Bi-weekly Gundam Card Game Tournament. 3-round swiss tournament. Pack per win. Lucky Losers win packs (best of the 1 wins). Event promo packs to all participants. \n\nCost: $8\nTime: 1pm (All events start 15 min after start time)\nPrizes: 1 pack per win\, Lucky Loser packs (best of the 1 wins)\, Promo packs
URL:https://sliceanddicepizzeria.com/event/gundam-card-game-tournament-east/2026-03-08/
LOCATION:Eastside\, 2225 Wyoming Blvd NE Suite C\, Albuquerque\, NM\, 87112\, United States
CATEGORIES:Gundam Card Game,TCG,Tournament
ATTACH;FMTTYPE=image/jpeg:https://sliceanddicepizzeria.com/wp-content/uploads/2025/10/yhm0olu7xrqf1-1920x1080-1.jpg
END:VEVENT
BEGIN:VEVENT
DTSTART;TZID=America/Denver:20260305T180000
DTEND;TZID=America/Denver:20260305T210000
DTSTAMP:20260421T022814
CREATED:20260209T051747Z
LAST-MODIFIED:20260209T161837Z
UID:10004361-1772733600-1772744400@sliceanddicepizzeria.com
SUMMARY:Lorcana TCG Casual Community - WEST
DESCRIPTION:Come play Lorcana with our great community. Great for new and veteran players. Casual tournament every 2 weeks. Gain Lorcana points for every game you play (winning not necessary) and turn those points in for awesome promos and prizes. \n\nBi-weekly Lorcana Tournament. 3-round swiss tournament. Pack per win. Lucky Losers win packs (best of the 1 wins). \n\nCost: $9\nTime: 6pm (All events start 15 min after start time)\nPrizes: 1 pack per win\, Lucky Loser packs (best of the 1 wins)\, Promos
URL:https://sliceanddicepizzeria.com/event/lorcana-tcg-casual-community-west-3/2026-03-05/
LOCATION:Westside\, 5720 McMahon Blvd NW suite b\, Albuquerque\, NM\, 87114\, United States
CATEGORIES:Disney Lorcana,TCG,Tournament
ATTACH;FMTTYPE=image/png:https://sliceanddicepizzeria.com/wp-content/uploads/2025/11/LORCANA.png
END:VEVENT
BEGIN:VEVENT
DTSTART;TZID=America/Denver:20260226T180000
DTEND;TZID=America/Denver:20260226T210000
DTSTAMP:20260421T022814
CREATED:20260209T052046Z
LAST-MODIFIED:20260209T052046Z
UID:10004405-1772128800-1772139600@sliceanddicepizzeria.com
SUMMARY:Lorcana TCG Casual Community - EAST
DESCRIPTION:Come play Lorcana with our great community. Great for new and veteran players. Casual tournament every 2 weeks. Gain Lorcana points for every game you play (winning not necessary) and turn those points in for awesome promos and prizes. \n\nBi-weekly Lorcana Tournament. 3-round swiss tournament. Pack per win. Lucky Losers win packs (best of the 1 wins). \n\nCost: $9\nTime: 6pm (All events start 15 min after start time)\nPrizes: 1 pack per win\, Lucky Loser packs (best of the 1 wins)\, Promo packs
URL:https://sliceanddicepizzeria.com/event/lorcana-tcg-casual-community-east/2026-02-26/
LOCATION:Eastside\, 2225 Wyoming Blvd NE Suite C\, Albuquerque\, NM\, 87112\, United States
CATEGORIES:Disney Lorcana,TCG,Tournament
ATTACH;FMTTYPE=image/png:https://sliceanddicepizzeria.com/wp-content/uploads/2025/11/LORCANA.png
END:VEVENT
BEGIN:VEVENT
DTSTART;TZID=America/Denver:20260222T160000
DTEND;TZID=America/Denver:20260222T210000
DTSTAMP:20260421T022814
CREATED:20260209T025019Z
LAST-MODIFIED:20260209T025019Z
UID:10004209-1771776000-1771794000@sliceanddicepizzeria.com
SUMMARY:Altered TCG Tumult Tri-Deck Tournament - EAST
DESCRIPTION:Three standard decks needed\, each of a different faction. Three rounds of best-of-three\, with a tiebreaker at the end should a tie occur. You and your opponent will chose a deck of the other to “veto” for the match. To win the match\, you must win with both of your non-vetoed decks. Should you both win with a deck each\, the final game will be the decks that lost vs each other •Rounds will be at most an hour for all three games of a match. Cost: $0 (Free) \n\nCost: $0 (Free)\nTime: 4:00pm\nPrizes: Customer Slice and Dice Tumult Champion Playmat to 1st-2nd & Many Skybound Promo Packs from Equinox.
URL:https://sliceanddicepizzeria.com/event/altered-tcg-tumult-tri-deck-tournament-east/
LOCATION:Eastside\, 2225 Wyoming Blvd NE Suite C\, Albuquerque\, NM\, 87112\, United States
CATEGORIES:Altered TCG,Competitive,TCG,Tournament
ATTACH;FMTTYPE=image/jpeg:https://sliceanddicepizzeria.com/wp-content/uploads/2026/02/altered-sky-product-header.jpg
END:VEVENT
BEGIN:VEVENT
DTSTART;TZID=America/Denver:20260222T130000
DTEND;TZID=America/Denver:20260222T160000
DTSTAMP:20260421T022814
CREATED:20260208T215339Z
LAST-MODIFIED:20260209T041418Z
UID:10003968-1771765200-1771776000@sliceanddicepizzeria.com
SUMMARY:Gundam Card Game Tournament - EAST
DESCRIPTION:Bi-weekly Gundam Card Game Tournament. 3-round swiss tournament. Pack per win. Lucky Losers win packs (best of the 1 wins). Event promo packs to all participants. \n\nCost: $8\nTime: 1pm (All events start 15 min after start time)\nPrizes: 1 pack per win\, Lucky Loser packs (best of the 1 wins)\, Promo packs
URL:https://sliceanddicepizzeria.com/event/gundam-card-game-tournament-east/2026-02-22/
LOCATION:Eastside\, 2225 Wyoming Blvd NE Suite C\, Albuquerque\, NM\, 87112\, United States
CATEGORIES:Gundam Card Game,TCG,Tournament
ATTACH;FMTTYPE=image/jpeg:https://sliceanddicepizzeria.com/wp-content/uploads/2025/10/yhm0olu7xrqf1-1920x1080-1.jpg
END:VEVENT
BEGIN:VEVENT
DTSTART;TZID=America/Denver:20260215T130000
DTEND;TZID=America/Denver:20260215T170000
DTSTAMP:20260421T022814
CREATED:20260204T225524Z
LAST-MODIFIED:20260204T230303Z
UID:10003816-1771160400-1771174800@sliceanddicepizzeria.com
SUMMARY:Riftbound Spiritforged Sealed - EAST
DESCRIPTION:Sealed Event. Build a deck with 6 booster packs. Afterward participate in a 3 round swiss tournament. Get a booster each round played (win or lose). You can use that pack to upgrade your deck! \nCost: $50
URL:https://sliceanddicepizzeria.com/event/riftbound-spiritforged-sealed-east/
LOCATION:Eastside\, 2225 Wyoming Blvd NE Suite C\, Albuquerque\, NM\, 87112\, United States
CATEGORIES:Riftbound,TCG,Tournament
ATTACH;FMTTYPE=image/jpeg:https://sliceanddicepizzeria.com/wp-content/uploads/2026/02/RB-02_KeyVisual_1920x1080.jpg
END:VEVENT
END:VCALENDAR