BEGIN:VCALENDAR
VERSION:2.0
PRODID:-//Slice and Dice Pizzeria - ECPv6.15.20//NONSGML v1.0//EN
CALSCALE:GREGORIAN
METHOD:PUBLISH
X-WR-CALNAME:Slice and Dice Pizzeria
X-ORIGINAL-URL:https://sliceanddicepizzeria.com
X-WR-CALDESC:Events for Slice and Dice Pizzeria
REFRESH-INTERVAL;VALUE=DURATION:PT1H
X-Robots-Tag:noindex
X-PUBLISHED-TTL:PT1H
BEGIN:VTIMEZONE
TZID:America/Denver
BEGIN:DAYLIGHT
TZOFFSETFROM:-0700
TZOFFSETTO:-0600
TZNAME:MDT
DTSTART:20250309T090000
END:DAYLIGHT
BEGIN:STANDARD
TZOFFSETFROM:-0600
TZOFFSETTO:-0700
TZNAME:MST
DTSTART:20251102T080000
END:STANDARD
BEGIN:DAYLIGHT
TZOFFSETFROM:-0700
TZOFFSETTO:-0600
TZNAME:MDT
DTSTART:20260308T090000
END:DAYLIGHT
BEGIN:STANDARD
TZOFFSETFROM:-0600
TZOFFSETTO:-0700
TZNAME:MST
DTSTART:20261101T080000
END:STANDARD
BEGIN:DAYLIGHT
TZOFFSETFROM:-0700
TZOFFSETTO:-0600
TZNAME:MDT
DTSTART:20270314T090000
END:DAYLIGHT
BEGIN:STANDARD
TZOFFSETFROM:-0600
TZOFFSETTO:-0700
TZNAME:MST
DTSTART:20271107T080000
END:STANDARD
END:VTIMEZONE
BEGIN:VEVENT
DTSTART;TZID=America/Denver:20260702T180000
DTEND;TZID=America/Denver:20260702T210000
DTSTAMP:20260421T033235
CREATED:20260209T052046Z
LAST-MODIFIED:20260209T052046Z
UID:10004414-1783015200-1783026000@sliceanddicepizzeria.com
SUMMARY:Lorcana TCG Casual Community - EAST
DESCRIPTION:Come play Lorcana with our great community. Great for new and veteran players. Casual tournament every 2 weeks. Gain Lorcana points for every game you play (winning not necessary) and turn those points in for awesome promos and prizes. \n\nBi-weekly Lorcana Tournament. 3-round swiss tournament. Pack per win. Lucky Losers win packs (best of the 1 wins). \n\nCost: $9\nTime: 6pm (All events start 15 min after start time)\nPrizes: 1 pack per win\, Lucky Loser packs (best of the 1 wins)\, Promo packs
URL:https://sliceanddicepizzeria.com/event/lorcana-tcg-casual-community-east/2026-07-02/
LOCATION:Eastside\, 2225 Wyoming Blvd NE Suite C\, Albuquerque\, NM\, 87112\, United States
CATEGORIES:Disney Lorcana,TCG,Tournament
ATTACH;FMTTYPE=image/png:https://sliceanddicepizzeria.com/wp-content/uploads/2025/11/LORCANA.png
END:VEVENT
BEGIN:VEVENT
DTSTART;TZID=America/Denver:20260705T130000
DTEND;TZID=America/Denver:20260705T160000
DTSTAMP:20260421T033235
CREATED:20260209T033554Z
LAST-MODIFIED:20260329T214506Z
UID:10004218-1783256400-1783267200@sliceanddicepizzeria.com
SUMMARY:Riftbound TCG Tournament - EAST
DESCRIPTION:Bi-weekly Riftbound: League of Legends TCG Tournament. 3-round swiss tournament. Pack per win. Lucky Losers win packs (best of the 1 wins). Event promo packs to all participants. \n\nCost: $11\nTime: 1pm (All events start 15 min after start time)\nPrizes: 1 pack per win\, Lucky Loser packs (best of the 1 wins)\, Promo packs
URL:https://sliceanddicepizzeria.com/event/riftbound-tcg-tournament-east/2026-07-05/
LOCATION:Eastside\, 2225 Wyoming Blvd NE Suite C\, Albuquerque\, NM\, 87112\, United States
CATEGORIES:Riftbound,TCG,Tournament
ATTACH;FMTTYPE=image/jpeg:https://sliceanddicepizzeria.com/wp-content/uploads/2026/02/RB-02_KeyVisual_1920x1080.jpg
END:VEVENT
BEGIN:VEVENT
DTSTART;TZID=America/Denver:20260709T180000
DTEND;TZID=America/Denver:20260709T210000
DTSTAMP:20260421T033235
CREATED:20260209T051747Z
LAST-MODIFIED:20260209T161837Z
UID:10004370-1783620000-1783630800@sliceanddicepizzeria.com
SUMMARY:Lorcana TCG Casual Community - WEST
DESCRIPTION:Come play Lorcana with our great community. Great for new and veteran players. Casual tournament every 2 weeks. Gain Lorcana points for every game you play (winning not necessary) and turn those points in for awesome promos and prizes. \n\nBi-weekly Lorcana Tournament. 3-round swiss tournament. Pack per win. Lucky Losers win packs (best of the 1 wins). \n\nCost: $9\nTime: 6pm (All events start 15 min after start time)\nPrizes: 1 pack per win\, Lucky Loser packs (best of the 1 wins)\, Promos
URL:https://sliceanddicepizzeria.com/event/lorcana-tcg-casual-community-west-3/2026-07-09/
LOCATION:Westside\, 5720 McMahon Blvd NW suite b\, Albuquerque\, NM\, 87114\, United States
CATEGORIES:Disney Lorcana,TCG,Tournament
ATTACH;FMTTYPE=image/png:https://sliceanddicepizzeria.com/wp-content/uploads/2025/11/LORCANA.png
END:VEVENT
BEGIN:VEVENT
DTSTART;TZID=America/Denver:20260712T130000
DTEND;TZID=America/Denver:20260712T160000
DTSTAMP:20260421T033235
CREATED:20260208T215339Z
LAST-MODIFIED:20260209T041418Z
UID:10003978-1783861200-1783872000@sliceanddicepizzeria.com
SUMMARY:Gundam Card Game Tournament - EAST
DESCRIPTION:Bi-weekly Gundam Card Game Tournament. 3-round swiss tournament. Pack per win. Lucky Losers win packs (best of the 1 wins). Event promo packs to all participants. \n\nCost: $8\nTime: 1pm (All events start 15 min after start time)\nPrizes: 1 pack per win\, Lucky Loser packs (best of the 1 wins)\, Promo packs
URL:https://sliceanddicepizzeria.com/event/gundam-card-game-tournament-east/2026-07-12/
LOCATION:Eastside\, 2225 Wyoming Blvd NE Suite C\, Albuquerque\, NM\, 87112\, United States
CATEGORIES:Gundam Card Game,TCG,Tournament
ATTACH;FMTTYPE=image/jpeg:https://sliceanddicepizzeria.com/wp-content/uploads/2025/10/yhm0olu7xrqf1-1920x1080-1.jpg
END:VEVENT
BEGIN:VEVENT
DTSTART;TZID=America/Denver:20260716T180000
DTEND;TZID=America/Denver:20260716T210000
DTSTAMP:20260421T033235
CREATED:20260209T052046Z
LAST-MODIFIED:20260209T052046Z
UID:10004415-1784224800-1784235600@sliceanddicepizzeria.com
SUMMARY:Lorcana TCG Casual Community - EAST
DESCRIPTION:Come play Lorcana with our great community. Great for new and veteran players. Casual tournament every 2 weeks. Gain Lorcana points for every game you play (winning not necessary) and turn those points in for awesome promos and prizes. \n\nBi-weekly Lorcana Tournament. 3-round swiss tournament. Pack per win. Lucky Losers win packs (best of the 1 wins). \n\nCost: $9\nTime: 6pm (All events start 15 min after start time)\nPrizes: 1 pack per win\, Lucky Loser packs (best of the 1 wins)\, Promo packs
URL:https://sliceanddicepizzeria.com/event/lorcana-tcg-casual-community-east/2026-07-16/
LOCATION:Eastside\, 2225 Wyoming Blvd NE Suite C\, Albuquerque\, NM\, 87112\, United States
CATEGORIES:Disney Lorcana,TCG,Tournament
ATTACH;FMTTYPE=image/png:https://sliceanddicepizzeria.com/wp-content/uploads/2025/11/LORCANA.png
END:VEVENT
BEGIN:VEVENT
DTSTART;TZID=America/Denver:20260719T130000
DTEND;TZID=America/Denver:20260719T160000
DTSTAMP:20260421T033235
CREATED:20260209T033554Z
LAST-MODIFIED:20260329T214506Z
UID:10004219-1784466000-1784476800@sliceanddicepizzeria.com
SUMMARY:Riftbound TCG Tournament - EAST
DESCRIPTION:Bi-weekly Riftbound: League of Legends TCG Tournament. 3-round swiss tournament. Pack per win. Lucky Losers win packs (best of the 1 wins). Event promo packs to all participants. \n\nCost: $11\nTime: 1pm (All events start 15 min after start time)\nPrizes: 1 pack per win\, Lucky Loser packs (best of the 1 wins)\, Promo packs
URL:https://sliceanddicepizzeria.com/event/riftbound-tcg-tournament-east/2026-07-19/
LOCATION:Eastside\, 2225 Wyoming Blvd NE Suite C\, Albuquerque\, NM\, 87112\, United States
CATEGORIES:Riftbound,TCG,Tournament
ATTACH;FMTTYPE=image/jpeg:https://sliceanddicepizzeria.com/wp-content/uploads/2026/02/RB-02_KeyVisual_1920x1080.jpg
END:VEVENT
BEGIN:VEVENT
DTSTART;TZID=America/Denver:20260723T180000
DTEND;TZID=America/Denver:20260723T210000
DTSTAMP:20260421T033235
CREATED:20260209T051747Z
LAST-MODIFIED:20260209T161837Z
UID:10004371-1784829600-1784840400@sliceanddicepizzeria.com
SUMMARY:Lorcana TCG Casual Community - WEST
DESCRIPTION:Come play Lorcana with our great community. Great for new and veteran players. Casual tournament every 2 weeks. Gain Lorcana points for every game you play (winning not necessary) and turn those points in for awesome promos and prizes. \n\nBi-weekly Lorcana Tournament. 3-round swiss tournament. Pack per win. Lucky Losers win packs (best of the 1 wins). \n\nCost: $9\nTime: 6pm (All events start 15 min after start time)\nPrizes: 1 pack per win\, Lucky Loser packs (best of the 1 wins)\, Promos
URL:https://sliceanddicepizzeria.com/event/lorcana-tcg-casual-community-west-3/2026-07-23/
LOCATION:Westside\, 5720 McMahon Blvd NW suite b\, Albuquerque\, NM\, 87114\, United States
CATEGORIES:Disney Lorcana,TCG,Tournament
ATTACH;FMTTYPE=image/png:https://sliceanddicepizzeria.com/wp-content/uploads/2025/11/LORCANA.png
END:VEVENT
BEGIN:VEVENT
DTSTART;TZID=America/Denver:20260726T130000
DTEND;TZID=America/Denver:20260726T170000
DTSTAMP:20260421T033235
CREATED:20260209T000612Z
LAST-MODIFIED:20260209T001128Z
UID:10003995-1785070800-1785085200@sliceanddicepizzeria.com
SUMMARY:Gundam Card Game Freedom Ascension GD05 Sealed Release Event – EAST
DESCRIPTION:Gundam Card Game Tournament using 4 packs. 3-round swiss tournament. Pack per round (win or lose).\n\nCost: $30\nTime: 1pm (All events start 15 min after start time)\nPrizes: 1 pack per round (win or lose)
URL:https://sliceanddicepizzeria.com/event/gundam-card-game-freedom-ascension-gd05-sealed-release-event-east/
LOCATION:Eastside\, 2225 Wyoming Blvd NE Suite C\, Albuquerque\, NM\, 87112\, United States
CATEGORIES:Gundam Card Game,TCG,Tournament
ATTACH;FMTTYPE=image/jpeg:https://sliceanddicepizzeria.com/wp-content/uploads/2025/10/yhm0olu7xrqf1-1920x1080-1.jpg
END:VEVENT
BEGIN:VEVENT
DTSTART;TZID=America/Denver:20260730T180000
DTEND;TZID=America/Denver:20260730T210000
DTSTAMP:20260421T033235
CREATED:20260209T052046Z
LAST-MODIFIED:20260209T052046Z
UID:10004416-1785434400-1785445200@sliceanddicepizzeria.com
SUMMARY:Lorcana TCG Casual Community - EAST
DESCRIPTION:Come play Lorcana with our great community. Great for new and veteran players. Casual tournament every 2 weeks. Gain Lorcana points for every game you play (winning not necessary) and turn those points in for awesome promos and prizes. \n\nBi-weekly Lorcana Tournament. 3-round swiss tournament. Pack per win. Lucky Losers win packs (best of the 1 wins). \n\nCost: $9\nTime: 6pm (All events start 15 min after start time)\nPrizes: 1 pack per win\, Lucky Loser packs (best of the 1 wins)\, Promo packs
URL:https://sliceanddicepizzeria.com/event/lorcana-tcg-casual-community-east/2026-07-30/
LOCATION:Eastside\, 2225 Wyoming Blvd NE Suite C\, Albuquerque\, NM\, 87112\, United States
CATEGORIES:Disney Lorcana,TCG,Tournament
ATTACH;FMTTYPE=image/png:https://sliceanddicepizzeria.com/wp-content/uploads/2025/11/LORCANA.png
END:VEVENT
END:VCALENDAR