BEGIN:VCALENDAR
VERSION:2.0
PRODID:-//Slice and Dice Pizzeria - ECPv6.15.20//NONSGML v1.0//EN
CALSCALE:GREGORIAN
METHOD:PUBLISH
X-ORIGINAL-URL:https://sliceanddicepizzeria.com
X-WR-CALDESC:Events for Slice and Dice Pizzeria
REFRESH-INTERVAL;VALUE=DURATION:PT1H
X-Robots-Tag:noindex
X-PUBLISHED-TTL:PT1H
BEGIN:VTIMEZONE
TZID:America/Denver
BEGIN:DAYLIGHT
TZOFFSETFROM:-0700
TZOFFSETTO:-0600
TZNAME:MDT
DTSTART:20240310T090000
END:DAYLIGHT
BEGIN:STANDARD
TZOFFSETFROM:-0600
TZOFFSETTO:-0700
TZNAME:MST
DTSTART:20241103T080000
END:STANDARD
BEGIN:DAYLIGHT
TZOFFSETFROM:-0700
TZOFFSETTO:-0600
TZNAME:MDT
DTSTART:20250309T090000
END:DAYLIGHT
BEGIN:STANDARD
TZOFFSETFROM:-0600
TZOFFSETTO:-0700
TZNAME:MST
DTSTART:20251102T080000
END:STANDARD
BEGIN:DAYLIGHT
TZOFFSETFROM:-0700
TZOFFSETTO:-0600
TZNAME:MDT
DTSTART:20260308T090000
END:DAYLIGHT
BEGIN:STANDARD
TZOFFSETFROM:-0600
TZOFFSETTO:-0700
TZNAME:MST
DTSTART:20261101T080000
END:STANDARD
BEGIN:DAYLIGHT
TZOFFSETFROM:-0700
TZOFFSETTO:-0600
TZNAME:MDT
DTSTART:20270314T090000
END:DAYLIGHT
BEGIN:STANDARD
TZOFFSETFROM:-0600
TZOFFSETTO:-0700
TZNAME:MST
DTSTART:20271107T080000
END:STANDARD
END:VTIMEZONE
BEGIN:VEVENT
DTSTART;TZID=America/Denver:20260105T170000
DTEND;TZID=America/Denver:20260105T210000
DTSTAMP:20260421T091102
CREATED:20251101T225431Z
LAST-MODIFIED:20251105T204957Z
UID:10000402-1767632400-1767646800@sliceanddicepizzeria.com
SUMMARY:Infinity (Corvus Belli) - EAST
DESCRIPTION:Come play\, learn\, and hang out with the Infinity Community. \nAbout Infinity:\nInfinity is a skirmish wargame with high quality metal miniatures\, dynamic and energetic\, in which two players will fight to defend the interests of their faction. Competitive and exciting\, Infinity will make every game a different experience\, since the player has a large number of units to customize his army.
URL:https://sliceanddicepizzeria.com/event/infinity-corvus-belli-east/2026-01-05/
LOCATION:Eastside\, 2225 Wyoming Blvd NE Suite C\, Albuquerque\, NM\, 87112\, United States
CATEGORIES:Miniature Game
ATTACH;FMTTYPE=image/png:https://sliceanddicepizzeria.com/wp-content/uploads/2025/11/INFINITY.png
END:VEVENT
BEGIN:VEVENT
DTSTART;TZID=America/Denver:20260103T110000
DTEND;TZID=America/Denver:20260103T170000
DTSTAMP:20260421T091102
CREATED:20251105T215139Z
LAST-MODIFIED:20260209T050347Z
UID:10002975-1767438000-1767459600@sliceanddicepizzeria.com
SUMMARY:Warcrow & Infinity (Corvus Belli) - EAST
DESCRIPTION:Join our Corvus Belli community every Saturday at our Eastside location. Players play both Warcrow and Infinity\, so whether you are into Fantasy or Sci-Fi there is a table for you. Come by and play or learn a game. \nAbout Warcrow:\n“Warcrow is a tabletop miniatures wargame created by Corvus Belli\, set in a fantasy world called Lindwurm where players control small armies of warriors\, creatures\, and wizards\, battling in skirmishes across different factions\, with a focus on strategic troop positioning and unit-based combat mechanics\, emphasizing the importance of each miniature on the battlefield.
URL:https://sliceanddicepizzeria.com/event/warcrow-infinity-corvus-belli-east/2026-01-03/
LOCATION:Eastside\, 2225 Wyoming Blvd NE Suite C\, Albuquerque\, NM\, 87112\, United States
CATEGORIES:Miniature Game
ATTACH;FMTTYPE=image/png:https://sliceanddicepizzeria.com/wp-content/uploads/2025/11/WARCROW.png
END:VEVENT
BEGIN:VEVENT
DTSTART;TZID=America/Denver:20251229T170000
DTEND;TZID=America/Denver:20251229T210000
DTSTAMP:20260421T091102
CREATED:20251101T225431Z
LAST-MODIFIED:20251105T204957Z
UID:10000401-1767027600-1767042000@sliceanddicepizzeria.com
SUMMARY:Infinity (Corvus Belli) - EAST
DESCRIPTION:Come play\, learn\, and hang out with the Infinity Community. \nAbout Infinity:\nInfinity is a skirmish wargame with high quality metal miniatures\, dynamic and energetic\, in which two players will fight to defend the interests of their faction. Competitive and exciting\, Infinity will make every game a different experience\, since the player has a large number of units to customize his army.
URL:https://sliceanddicepizzeria.com/event/infinity-corvus-belli-east/2025-12-29/
LOCATION:Eastside\, 2225 Wyoming Blvd NE Suite C\, Albuquerque\, NM\, 87112\, United States
CATEGORIES:Miniature Game
ATTACH;FMTTYPE=image/png:https://sliceanddicepizzeria.com/wp-content/uploads/2025/11/INFINITY.png
END:VEVENT
BEGIN:VEVENT
DTSTART;TZID=America/Denver:20251227T110000
DTEND;TZID=America/Denver:20251227T170000
DTSTAMP:20260421T091102
CREATED:20251105T215139Z
LAST-MODIFIED:20260209T050347Z
UID:10002974-1766833200-1766854800@sliceanddicepizzeria.com
SUMMARY:Warcrow & Infinity (Corvus Belli) - EAST
DESCRIPTION:Join our Corvus Belli community every Saturday at our Eastside location. Players play both Warcrow and Infinity\, so whether you are into Fantasy or Sci-Fi there is a table for you. Come by and play or learn a game. \nAbout Warcrow:\n“Warcrow is a tabletop miniatures wargame created by Corvus Belli\, set in a fantasy world called Lindwurm where players control small armies of warriors\, creatures\, and wizards\, battling in skirmishes across different factions\, with a focus on strategic troop positioning and unit-based combat mechanics\, emphasizing the importance of each miniature on the battlefield.
URL:https://sliceanddicepizzeria.com/event/warcrow-infinity-corvus-belli-east/2025-12-27/
LOCATION:Eastside\, 2225 Wyoming Blvd NE Suite C\, Albuquerque\, NM\, 87112\, United States
CATEGORIES:Miniature Game
ATTACH;FMTTYPE=image/png:https://sliceanddicepizzeria.com/wp-content/uploads/2025/11/WARCROW.png
END:VEVENT
BEGIN:VEVENT
DTSTART;TZID=America/Denver:20251222T170000
DTEND;TZID=America/Denver:20251222T210000
DTSTAMP:20260421T091102
CREATED:20251101T225431Z
LAST-MODIFIED:20251105T204957Z
UID:10000400-1766422800-1766437200@sliceanddicepizzeria.com
SUMMARY:Infinity (Corvus Belli) - EAST
DESCRIPTION:Come play\, learn\, and hang out with the Infinity Community. \nAbout Infinity:\nInfinity is a skirmish wargame with high quality metal miniatures\, dynamic and energetic\, in which two players will fight to defend the interests of their faction. Competitive and exciting\, Infinity will make every game a different experience\, since the player has a large number of units to customize his army.
URL:https://sliceanddicepizzeria.com/event/infinity-corvus-belli-east/2025-12-22/
LOCATION:Eastside\, 2225 Wyoming Blvd NE Suite C\, Albuquerque\, NM\, 87112\, United States
CATEGORIES:Miniature Game
ATTACH;FMTTYPE=image/png:https://sliceanddicepizzeria.com/wp-content/uploads/2025/11/INFINITY.png
END:VEVENT
BEGIN:VEVENT
DTSTART;TZID=America/Denver:20251220T110000
DTEND;TZID=America/Denver:20251220T170000
DTSTAMP:20260421T091102
CREATED:20251105T215139Z
LAST-MODIFIED:20260209T050347Z
UID:10002973-1766228400-1766250000@sliceanddicepizzeria.com
SUMMARY:Warcrow & Infinity (Corvus Belli) - EAST
DESCRIPTION:Join our Corvus Belli community every Saturday at our Eastside location. Players play both Warcrow and Infinity\, so whether you are into Fantasy or Sci-Fi there is a table for you. Come by and play or learn a game. \nAbout Warcrow:\n“Warcrow is a tabletop miniatures wargame created by Corvus Belli\, set in a fantasy world called Lindwurm where players control small armies of warriors\, creatures\, and wizards\, battling in skirmishes across different factions\, with a focus on strategic troop positioning and unit-based combat mechanics\, emphasizing the importance of each miniature on the battlefield.
URL:https://sliceanddicepizzeria.com/event/warcrow-infinity-corvus-belli-east/2025-12-20/
LOCATION:Eastside\, 2225 Wyoming Blvd NE Suite C\, Albuquerque\, NM\, 87112\, United States
CATEGORIES:Miniature Game
ATTACH;FMTTYPE=image/png:https://sliceanddicepizzeria.com/wp-content/uploads/2025/11/WARCROW.png
END:VEVENT
BEGIN:VEVENT
DTSTART;TZID=America/Denver:20251215T170000
DTEND;TZID=America/Denver:20251215T210000
DTSTAMP:20260421T091102
CREATED:20251101T225431Z
LAST-MODIFIED:20251105T204957Z
UID:10000399-1765818000-1765832400@sliceanddicepizzeria.com
SUMMARY:Infinity (Corvus Belli) - EAST
DESCRIPTION:Come play\, learn\, and hang out with the Infinity Community. \nAbout Infinity:\nInfinity is a skirmish wargame with high quality metal miniatures\, dynamic and energetic\, in which two players will fight to defend the interests of their faction. Competitive and exciting\, Infinity will make every game a different experience\, since the player has a large number of units to customize his army.
URL:https://sliceanddicepizzeria.com/event/infinity-corvus-belli-east/2025-12-15/
LOCATION:Eastside\, 2225 Wyoming Blvd NE Suite C\, Albuquerque\, NM\, 87112\, United States
CATEGORIES:Miniature Game
ATTACH;FMTTYPE=image/png:https://sliceanddicepizzeria.com/wp-content/uploads/2025/11/INFINITY.png
END:VEVENT
BEGIN:VEVENT
DTSTART;TZID=America/Denver:20251213T110000
DTEND;TZID=America/Denver:20251213T170000
DTSTAMP:20260421T091102
CREATED:20251105T215139Z
LAST-MODIFIED:20260209T050347Z
UID:10002972-1765623600-1765645200@sliceanddicepizzeria.com
SUMMARY:Warcrow & Infinity (Corvus Belli) - EAST
DESCRIPTION:Join our Corvus Belli community every Saturday at our Eastside location. Players play both Warcrow and Infinity\, so whether you are into Fantasy or Sci-Fi there is a table for you. Come by and play or learn a game. \nAbout Warcrow:\n“Warcrow is a tabletop miniatures wargame created by Corvus Belli\, set in a fantasy world called Lindwurm where players control small armies of warriors\, creatures\, and wizards\, battling in skirmishes across different factions\, with a focus on strategic troop positioning and unit-based combat mechanics\, emphasizing the importance of each miniature on the battlefield.
URL:https://sliceanddicepizzeria.com/event/warcrow-infinity-corvus-belli-east/2025-12-13/
LOCATION:Eastside\, 2225 Wyoming Blvd NE Suite C\, Albuquerque\, NM\, 87112\, United States
CATEGORIES:Miniature Game
ATTACH;FMTTYPE=image/png:https://sliceanddicepizzeria.com/wp-content/uploads/2025/11/WARCROW.png
END:VEVENT
BEGIN:VEVENT
DTSTART;TZID=America/Denver:20251208T170000
DTEND;TZID=America/Denver:20251208T210000
DTSTAMP:20260421T091102
CREATED:20251101T225431Z
LAST-MODIFIED:20251105T204957Z
UID:10000398-1765213200-1765227600@sliceanddicepizzeria.com
SUMMARY:Infinity (Corvus Belli) - EAST
DESCRIPTION:Come play\, learn\, and hang out with the Infinity Community. \nAbout Infinity:\nInfinity is a skirmish wargame with high quality metal miniatures\, dynamic and energetic\, in which two players will fight to defend the interests of their faction. Competitive and exciting\, Infinity will make every game a different experience\, since the player has a large number of units to customize his army.
URL:https://sliceanddicepizzeria.com/event/infinity-corvus-belli-east/2025-12-08/
LOCATION:Eastside\, 2225 Wyoming Blvd NE Suite C\, Albuquerque\, NM\, 87112\, United States
CATEGORIES:Miniature Game
ATTACH;FMTTYPE=image/png:https://sliceanddicepizzeria.com/wp-content/uploads/2025/11/INFINITY.png
END:VEVENT
BEGIN:VEVENT
DTSTART;TZID=America/Denver:20251206T110000
DTEND;TZID=America/Denver:20251206T170000
DTSTAMP:20260421T091102
CREATED:20251105T215139Z
LAST-MODIFIED:20260209T050347Z
UID:10002971-1765018800-1765040400@sliceanddicepizzeria.com
SUMMARY:Warcrow & Infinity (Corvus Belli) - EAST
DESCRIPTION:Join our Corvus Belli community every Saturday at our Eastside location. Players play both Warcrow and Infinity\, so whether you are into Fantasy or Sci-Fi there is a table for you. Come by and play or learn a game. \nAbout Warcrow:\n“Warcrow is a tabletop miniatures wargame created by Corvus Belli\, set in a fantasy world called Lindwurm where players control small armies of warriors\, creatures\, and wizards\, battling in skirmishes across different factions\, with a focus on strategic troop positioning and unit-based combat mechanics\, emphasizing the importance of each miniature on the battlefield.
URL:https://sliceanddicepizzeria.com/event/warcrow-infinity-corvus-belli-east/2025-12-06/
LOCATION:Eastside\, 2225 Wyoming Blvd NE Suite C\, Albuquerque\, NM\, 87112\, United States
CATEGORIES:Miniature Game
ATTACH;FMTTYPE=image/png:https://sliceanddicepizzeria.com/wp-content/uploads/2025/11/WARCROW.png
END:VEVENT
BEGIN:VEVENT
DTSTART;TZID=America/Denver:20251201T170000
DTEND;TZID=America/Denver:20251201T210000
DTSTAMP:20260421T091102
CREATED:20251101T225431Z
LAST-MODIFIED:20251105T204957Z
UID:10000397-1764608400-1764622800@sliceanddicepizzeria.com
SUMMARY:Infinity (Corvus Belli) - EAST
DESCRIPTION:Come play\, learn\, and hang out with the Infinity Community. \nAbout Infinity:\nInfinity is a skirmish wargame with high quality metal miniatures\, dynamic and energetic\, in which two players will fight to defend the interests of their faction. Competitive and exciting\, Infinity will make every game a different experience\, since the player has a large number of units to customize his army.
URL:https://sliceanddicepizzeria.com/event/infinity-corvus-belli-east/2025-12-01/
LOCATION:Eastside\, 2225 Wyoming Blvd NE Suite C\, Albuquerque\, NM\, 87112\, United States
CATEGORIES:Miniature Game
ATTACH;FMTTYPE=image/png:https://sliceanddicepizzeria.com/wp-content/uploads/2025/11/INFINITY.png
END:VEVENT
BEGIN:VEVENT
DTSTART;TZID=America/Denver:20251129T110000
DTEND;TZID=America/Denver:20251129T170000
DTSTAMP:20260421T091102
CREATED:20251105T215139Z
LAST-MODIFIED:20260209T050347Z
UID:10002970-1764414000-1764435600@sliceanddicepizzeria.com
SUMMARY:Warcrow & Infinity (Corvus Belli) - EAST
DESCRIPTION:Join our Corvus Belli community every Saturday at our Eastside location. Players play both Warcrow and Infinity\, so whether you are into Fantasy or Sci-Fi there is a table for you. Come by and play or learn a game. \nAbout Warcrow:\n“Warcrow is a tabletop miniatures wargame created by Corvus Belli\, set in a fantasy world called Lindwurm where players control small armies of warriors\, creatures\, and wizards\, battling in skirmishes across different factions\, with a focus on strategic troop positioning and unit-based combat mechanics\, emphasizing the importance of each miniature on the battlefield.
URL:https://sliceanddicepizzeria.com/event/warcrow-infinity-corvus-belli-east/2025-11-29/
LOCATION:Eastside\, 2225 Wyoming Blvd NE Suite C\, Albuquerque\, NM\, 87112\, United States
CATEGORIES:Miniature Game
ATTACH;FMTTYPE=image/png:https://sliceanddicepizzeria.com/wp-content/uploads/2025/11/WARCROW.png
END:VEVENT
BEGIN:VEVENT
DTSTART;TZID=America/Denver:20251124T170000
DTEND;TZID=America/Denver:20251124T210000
DTSTAMP:20260421T091102
CREATED:20251101T225431Z
LAST-MODIFIED:20251105T204957Z
UID:10000396-1764003600-1764018000@sliceanddicepizzeria.com
SUMMARY:Infinity (Corvus Belli) - EAST
DESCRIPTION:Come play\, learn\, and hang out with the Infinity Community. \nAbout Infinity:\nInfinity is a skirmish wargame with high quality metal miniatures\, dynamic and energetic\, in which two players will fight to defend the interests of their faction. Competitive and exciting\, Infinity will make every game a different experience\, since the player has a large number of units to customize his army.
URL:https://sliceanddicepizzeria.com/event/infinity-corvus-belli-east/2025-11-24/
LOCATION:Eastside\, 2225 Wyoming Blvd NE Suite C\, Albuquerque\, NM\, 87112\, United States
CATEGORIES:Miniature Game
ATTACH;FMTTYPE=image/png:https://sliceanddicepizzeria.com/wp-content/uploads/2025/11/INFINITY.png
END:VEVENT
BEGIN:VEVENT
DTSTART;TZID=America/Denver:20251122T110000
DTEND;TZID=America/Denver:20251122T170000
DTSTAMP:20260421T091102
CREATED:20251105T215139Z
LAST-MODIFIED:20260209T050347Z
UID:10002969-1763809200-1763830800@sliceanddicepizzeria.com
SUMMARY:Warcrow & Infinity (Corvus Belli) - EAST
DESCRIPTION:Join our Corvus Belli community every Saturday at our Eastside location. Players play both Warcrow and Infinity\, so whether you are into Fantasy or Sci-Fi there is a table for you. Come by and play or learn a game. \nAbout Warcrow:\n“Warcrow is a tabletop miniatures wargame created by Corvus Belli\, set in a fantasy world called Lindwurm where players control small armies of warriors\, creatures\, and wizards\, battling in skirmishes across different factions\, with a focus on strategic troop positioning and unit-based combat mechanics\, emphasizing the importance of each miniature on the battlefield.
URL:https://sliceanddicepizzeria.com/event/warcrow-infinity-corvus-belli-east/2025-11-22/
LOCATION:Eastside\, 2225 Wyoming Blvd NE Suite C\, Albuquerque\, NM\, 87112\, United States
CATEGORIES:Miniature Game
ATTACH;FMTTYPE=image/png:https://sliceanddicepizzeria.com/wp-content/uploads/2025/11/WARCROW.png
END:VEVENT
BEGIN:VEVENT
DTSTART;TZID=America/Denver:20251117T170000
DTEND;TZID=America/Denver:20251117T210000
DTSTAMP:20260421T091102
CREATED:20251101T225431Z
LAST-MODIFIED:20251105T204957Z
UID:10000395-1763398800-1763413200@sliceanddicepizzeria.com
SUMMARY:Infinity (Corvus Belli) - EAST
DESCRIPTION:Come play\, learn\, and hang out with the Infinity Community. \nAbout Infinity:\nInfinity is a skirmish wargame with high quality metal miniatures\, dynamic and energetic\, in which two players will fight to defend the interests of their faction. Competitive and exciting\, Infinity will make every game a different experience\, since the player has a large number of units to customize his army.
URL:https://sliceanddicepizzeria.com/event/infinity-corvus-belli-east/2025-11-17/
LOCATION:Eastside\, 2225 Wyoming Blvd NE Suite C\, Albuquerque\, NM\, 87112\, United States
CATEGORIES:Miniature Game
ATTACH;FMTTYPE=image/png:https://sliceanddicepizzeria.com/wp-content/uploads/2025/11/INFINITY.png
END:VEVENT
BEGIN:VEVENT
DTSTART;TZID=America/Denver:20251115T110000
DTEND;TZID=America/Denver:20251115T170000
DTSTAMP:20260421T091102
CREATED:20251105T215139Z
LAST-MODIFIED:20260209T050347Z
UID:10002968-1763204400-1763226000@sliceanddicepizzeria.com
SUMMARY:Warcrow & Infinity (Corvus Belli) - EAST
DESCRIPTION:Join our Corvus Belli community every Saturday at our Eastside location. Players play both Warcrow and Infinity\, so whether you are into Fantasy or Sci-Fi there is a table for you. Come by and play or learn a game. \nAbout Warcrow:\n“Warcrow is a tabletop miniatures wargame created by Corvus Belli\, set in a fantasy world called Lindwurm where players control small armies of warriors\, creatures\, and wizards\, battling in skirmishes across different factions\, with a focus on strategic troop positioning and unit-based combat mechanics\, emphasizing the importance of each miniature on the battlefield.
URL:https://sliceanddicepizzeria.com/event/warcrow-infinity-corvus-belli-east/2025-11-15/
LOCATION:Eastside\, 2225 Wyoming Blvd NE Suite C\, Albuquerque\, NM\, 87112\, United States
CATEGORIES:Miniature Game
ATTACH;FMTTYPE=image/png:https://sliceanddicepizzeria.com/wp-content/uploads/2025/11/WARCROW.png
END:VEVENT
BEGIN:VEVENT
DTSTART;TZID=America/Denver:20251110T170000
DTEND;TZID=America/Denver:20251110T210000
DTSTAMP:20260421T091102
CREATED:20251101T225431Z
LAST-MODIFIED:20251105T204957Z
UID:10000394-1762794000-1762808400@sliceanddicepizzeria.com
SUMMARY:Infinity (Corvus Belli) - EAST
DESCRIPTION:Come play\, learn\, and hang out with the Infinity Community. \nAbout Infinity:\nInfinity is a skirmish wargame with high quality metal miniatures\, dynamic and energetic\, in which two players will fight to defend the interests of their faction. Competitive and exciting\, Infinity will make every game a different experience\, since the player has a large number of units to customize his army.
URL:https://sliceanddicepizzeria.com/event/infinity-corvus-belli-east/2025-11-10/
LOCATION:Eastside\, 2225 Wyoming Blvd NE Suite C\, Albuquerque\, NM\, 87112\, United States
CATEGORIES:Miniature Game
ATTACH;FMTTYPE=image/png:https://sliceanddicepizzeria.com/wp-content/uploads/2025/11/INFINITY.png
END:VEVENT
BEGIN:VEVENT
DTSTART;TZID=America/Denver:20251108T110000
DTEND;TZID=America/Denver:20251108T170000
DTSTAMP:20260421T091102
CREATED:20251105T215139Z
LAST-MODIFIED:20260209T050347Z
UID:10002967-1762599600-1762621200@sliceanddicepizzeria.com
SUMMARY:Warcrow & Infinity (Corvus Belli) - EAST
DESCRIPTION:Join our Corvus Belli community every Saturday at our Eastside location. Players play both Warcrow and Infinity\, so whether you are into Fantasy or Sci-Fi there is a table for you. Come by and play or learn a game. \nAbout Warcrow:\n“Warcrow is a tabletop miniatures wargame created by Corvus Belli\, set in a fantasy world called Lindwurm where players control small armies of warriors\, creatures\, and wizards\, battling in skirmishes across different factions\, with a focus on strategic troop positioning and unit-based combat mechanics\, emphasizing the importance of each miniature on the battlefield.
URL:https://sliceanddicepizzeria.com/event/warcrow-infinity-corvus-belli-east/2025-11-08/
LOCATION:Eastside\, 2225 Wyoming Blvd NE Suite C\, Albuquerque\, NM\, 87112\, United States
CATEGORIES:Miniature Game
ATTACH;FMTTYPE=image/png:https://sliceanddicepizzeria.com/wp-content/uploads/2025/11/WARCROW.png
END:VEVENT
BEGIN:VEVENT
DTSTART;TZID=America/Denver:20251103T170000
DTEND;TZID=America/Denver:20251103T210000
DTSTAMP:20260421T091102
CREATED:20251101T225431Z
LAST-MODIFIED:20251105T204957Z
UID:10000393-1762189200-1762203600@sliceanddicepizzeria.com
SUMMARY:Infinity (Corvus Belli) - EAST
DESCRIPTION:Come play\, learn\, and hang out with the Infinity Community. \nAbout Infinity:\nInfinity is a skirmish wargame with high quality metal miniatures\, dynamic and energetic\, in which two players will fight to defend the interests of their faction. Competitive and exciting\, Infinity will make every game a different experience\, since the player has a large number of units to customize his army.
URL:https://sliceanddicepizzeria.com/event/infinity-corvus-belli-east/2025-11-03/
LOCATION:Eastside\, 2225 Wyoming Blvd NE Suite C\, Albuquerque\, NM\, 87112\, United States
CATEGORIES:Miniature Game
ATTACH;FMTTYPE=image/png:https://sliceanddicepizzeria.com/wp-content/uploads/2025/11/INFINITY.png
END:VEVENT
END:VCALENDAR