BEGIN:VCALENDAR
VERSION:2.0
PRODID:-//Slice and Dice Pizzeria - ECPv6.15.20//NONSGML v1.0//EN
CALSCALE:GREGORIAN
METHOD:PUBLISH
X-ORIGINAL-URL:https://sliceanddicepizzeria.com
X-WR-CALDESC:Events for Slice and Dice Pizzeria
REFRESH-INTERVAL;VALUE=DURATION:PT1H
X-Robots-Tag:noindex
X-PUBLISHED-TTL:PT1H
BEGIN:VTIMEZONE
TZID:America/Denver
BEGIN:DAYLIGHT
TZOFFSETFROM:-0700
TZOFFSETTO:-0600
TZNAME:MDT
DTSTART:20250309T090000
END:DAYLIGHT
BEGIN:STANDARD
TZOFFSETFROM:-0600
TZOFFSETTO:-0700
TZNAME:MST
DTSTART:20251102T080000
END:STANDARD
BEGIN:DAYLIGHT
TZOFFSETFROM:-0700
TZOFFSETTO:-0600
TZNAME:MDT
DTSTART:20260308T090000
END:DAYLIGHT
BEGIN:STANDARD
TZOFFSETFROM:-0600
TZOFFSETTO:-0700
TZNAME:MST
DTSTART:20261101T080000
END:STANDARD
BEGIN:DAYLIGHT
TZOFFSETFROM:-0700
TZOFFSETTO:-0600
TZNAME:MDT
DTSTART:20270314T090000
END:DAYLIGHT
BEGIN:STANDARD
TZOFFSETFROM:-0600
TZOFFSETTO:-0700
TZNAME:MST
DTSTART:20271107T080000
END:STANDARD
END:VTIMEZONE
BEGIN:VEVENT
DTSTART;TZID=America/Denver:20260425T110000
DTEND;TZID=America/Denver:20260425T170000
DTSTAMP:20260421T045317
CREATED:20251105T215139Z
LAST-MODIFIED:20260209T050347Z
UID:10002991-1777114800-1777136400@sliceanddicepizzeria.com
SUMMARY:Warcrow & Infinity (Corvus Belli) - EAST
DESCRIPTION:Join our Corvus Belli community every Saturday at our Eastside location. Players play both Warcrow and Infinity\, so whether you are into Fantasy or Sci-Fi there is a table for you. Come by and play or learn a game. \nAbout Warcrow:\n“Warcrow is a tabletop miniatures wargame created by Corvus Belli\, set in a fantasy world called Lindwurm where players control small armies of warriors\, creatures\, and wizards\, battling in skirmishes across different factions\, with a focus on strategic troop positioning and unit-based combat mechanics\, emphasizing the importance of each miniature on the battlefield.
URL:https://sliceanddicepizzeria.com/event/warcrow-infinity-corvus-belli-east/2026-04-25/
LOCATION:Eastside\, 2225 Wyoming Blvd NE Suite C\, Albuquerque\, NM\, 87112\, United States
CATEGORIES:Miniature Game
ATTACH;FMTTYPE=image/png:https://sliceanddicepizzeria.com/wp-content/uploads/2025/11/WARCROW.png
END:VEVENT
BEGIN:VEVENT
DTSTART;TZID=America/Denver:20260427T170000
DTEND;TZID=America/Denver:20260427T210000
DTSTAMP:20260421T045317
CREATED:20251101T225431Z
LAST-MODIFIED:20251105T204957Z
UID:10000418-1777309200-1777323600@sliceanddicepizzeria.com
SUMMARY:Infinity (Corvus Belli) - EAST
DESCRIPTION:Come play\, learn\, and hang out with the Infinity Community. \nAbout Infinity:\nInfinity is a skirmish wargame with high quality metal miniatures\, dynamic and energetic\, in which two players will fight to defend the interests of their faction. Competitive and exciting\, Infinity will make every game a different experience\, since the player has a large number of units to customize his army.
URL:https://sliceanddicepizzeria.com/event/infinity-corvus-belli-east/2026-04-27/
LOCATION:Eastside\, 2225 Wyoming Blvd NE Suite C\, Albuquerque\, NM\, 87112\, United States
CATEGORIES:Miniature Game
ATTACH;FMTTYPE=image/png:https://sliceanddicepizzeria.com/wp-content/uploads/2025/11/INFINITY.png
END:VEVENT
END:VCALENDAR