BEGIN:VCALENDAR
VERSION:2.0
PRODID:-//Slice and Dice Pizzeria - ECPv6.15.20//NONSGML v1.0//EN
CALSCALE:GREGORIAN
METHOD:PUBLISH
X-WR-CALNAME:Slice and Dice Pizzeria
X-ORIGINAL-URL:https://sliceanddicepizzeria.com
X-WR-CALDESC:Events for Slice and Dice Pizzeria
REFRESH-INTERVAL;VALUE=DURATION:PT1H
X-Robots-Tag:noindex
X-PUBLISHED-TTL:PT1H
BEGIN:VTIMEZONE
TZID:America/Denver
BEGIN:DAYLIGHT
TZOFFSETFROM:-0700
TZOFFSETTO:-0600
TZNAME:MDT
DTSTART:20250309T090000
END:DAYLIGHT
BEGIN:STANDARD
TZOFFSETFROM:-0600
TZOFFSETTO:-0700
TZNAME:MST
DTSTART:20251102T080000
END:STANDARD
BEGIN:DAYLIGHT
TZOFFSETFROM:-0700
TZOFFSETTO:-0600
TZNAME:MDT
DTSTART:20260308T090000
END:DAYLIGHT
BEGIN:STANDARD
TZOFFSETFROM:-0600
TZOFFSETTO:-0700
TZNAME:MST
DTSTART:20261101T080000
END:STANDARD
BEGIN:DAYLIGHT
TZOFFSETFROM:-0700
TZOFFSETTO:-0600
TZNAME:MDT
DTSTART:20270314T090000
END:DAYLIGHT
BEGIN:STANDARD
TZOFFSETFROM:-0600
TZOFFSETTO:-0700
TZNAME:MST
DTSTART:20271107T080000
END:STANDARD
END:VTIMEZONE
BEGIN:VEVENT
DTSTART;TZID=America/Denver:20260415T130000
DTEND;TZID=America/Denver:20260415T160000
DTSTAMP:20260421T022249
CREATED:20251105T205747Z
LAST-MODIFIED:20251105T215506Z
UID:10001713-1776258000-1776268800@sliceanddicepizzeria.com
SUMMARY:Gamers Over 60 - EAST
DESCRIPTION:Gamers Over Sixty weekly event. Come play games with a great community. Westside location happens every Monday and the Eastside location happens every Wednesday. For more details check out the group meetup website: \nhttps://www.meetup.com/albuquerque-singles-over-sixty/
URL:https://sliceanddicepizzeria.com/event/gamers-over-sixty-east/2026-04-15/
LOCATION:Eastside\, 2225 Wyoming Blvd NE Suite C\, Albuquerque\, NM\, 87112\, United States
CATEGORIES:Ages 60+,Casual Event
ATTACH;FMTTYPE=image/png:https://sliceanddicepizzeria.com/wp-content/uploads/2025/10/GAMERS-OVER-60.png
END:VEVENT
BEGIN:VEVENT
DTSTART;TZID=America/Denver:20260415T170000
DTEND;TZID=America/Denver:20260415T203000
DTSTAMP:20260421T022249
CREATED:20260209T045823Z
LAST-MODIFIED:20260209T045939Z
UID:10004316-1776272400-1776285000@sliceanddicepizzeria.com
SUMMARY:Game Designers of Albuquerque - EAST
DESCRIPTION:Bi-weekly meeting of the Game Designers of Albuquerque. Meet up\, play games\, discuss designs and much more. If you would like to get in contact with the group please email gamedesignersabq@gmail.com
URL:https://sliceanddicepizzeria.com/event/game-designers-of-albuquerque-east/2026-04-15/
LOCATION:Eastside\, 2225 Wyoming Blvd NE Suite C\, Albuquerque\, NM\, 87112\, United States
CATEGORIES:Board Games
ATTACH;FMTTYPE=image/jpeg:https://sliceanddicepizzeria.com/wp-content/uploads/2026/02/unnamed-1.jpg
END:VEVENT
BEGIN:VEVENT
DTSTART;TZID=America/Denver:20260415T180000
DTEND;TZID=America/Denver:20260415T210000
DTSTAMP:20260421T022249
CREATED:20251105T213928Z
LAST-MODIFIED:20251105T231021Z
UID:10002359-1776276000-1776286800@sliceanddicepizzeria.com
SUMMARY:Magic the Gathering Commander - EAST
DESCRIPTION:Come play with our great community of Magic players. This is a casual event for those that enjoy the Commander format. Match up with casual\, competitive\, or weird opponents for a great time. New to the game? Ask the host to help learn with a starter deck.
URL:https://sliceanddicepizzeria.com/event/magic-the-gathering-commander-east/2026-04-15/
LOCATION:Eastside\, 2225 Wyoming Blvd NE Suite C\, Albuquerque\, NM\, 87112\, United States
CATEGORIES:TCG
ATTACH;FMTTYPE=image/png:https://sliceanddicepizzeria.com/wp-content/uploads/2025/11/MAGIC.png
END:VEVENT
END:VCALENDAR